BEGIN:VCALENDAR
VERSION:2.0
PRODID:-//hacksw/handcal//NONSGML v1.0//EN
BEGIN:VEVENT
SUMMARY:Championnat departemental Tir en salle Adultes
UID:cdb339a6-d991-48a9-aba5-a99ebf32b196
DTSTART:20260131T070000Z
DTEND:20260201T160000Z
LOCATION:Localisation   Morangis
CATEGORIES:Sportif
STATUS:
URL;VALUE=URI:https://archersetampes.sportsregions.fr/evenements/2026/01/31/championnat-departemental-tir-en-salle-adultes-2425337
END:VEVENT
BEGIN:VEVENT
SUMMARY:Challenge des P'tits bouts
UID:34e04aa5-8fc7-4160-9733-f3de219f081e
DTSTART:20260315T080000Z
DTEND:20260315T120000Z
LOCATION:Centre de Tir a l'Arc Jean-Charles VALLADONT Compagnie des Archers d'Etampes 91150 ETAMPES
CATEGORIES:Sportif
STATUS:
DESCRIPTION:<p>La Compagnie des Archers d'Etampes accueille une etape
 du challenge des P'tits Bouts dimanche 15 mars au Centre de Tir a
 l'Arc.</p>
 
 <p>Cette competition est destinee aux U11 et U13
 neo-licencies et se decompose en un tir de qualification suivi de
 duels, dans un format court et ludique.</p>
URL;VALUE=URI:https://archersetampes.sportsregions.fr/evenements/2026/03/15/challenge-des-ptits-bouts-2425797
END:VEVENT
BEGIN:VEVENT
SUMMARY:Travaux au terrain
UID:f6e5fe79-b81e-42e7-887d-d1fb56386bb3
DTSTART:20260322T080000Z
DTEND:20260322T110000Z
LOCATION:Jardin d'Arc de l'Humery route de l'Humery 91150 ETAMPES
CATEGORIES:Manifestation
STATUS:
DESCRIPTION:<p style="text-align:justify;"><span
 style="font-size:13.3333px;"><span style="color:#000000;"><span
 style="font-family:Arial, Helvetica, sans-serif;"><span
 style="font-style:normal;"><span><span
 style="font-weight:400;"><span><span
 style="background-color:#ffffff;"><span><span><span><span>Le terrain
 exterieur sera en travaux le dimanche matin 22 mars de 9h a 12h et la
 Compagnie a besoin de
 vous.</span></span></span></span></span></span></span></span></span></span></span></span></p>
 
 <p
 style="text-align:justify;"><span style="font-size:13.3333px;"><span
 style="color:#000000;"><span style="font-family:Arial, Helvetica,
 sans-serif;"><span style="font-style:normal;"><span><span
 style="font-weight:400;"><span><span
 style="background-color:#ffffff;"><span><span><span><span>Pas besoin
 d’etre un grand bricoleur pour venir donner un coup de main,
 changement de la ciblerie et petits travaux divers au programme, donc
 bienvenue a tous avec votre materiel si vous en avez, brouette,
 tronconneuse, tondeuse, visseuse, scie, ...., et bienvenue si des
 pros (avec leur materiel) sont parmi les Archers ou leurs
 parents.</span></span></span></span></span></span></span></span></span></span></span></span></p>
 
 <p
 style="text-align:justify;"><span style="font-size:13.3333px;"><span
 style="color:#000000;"><span style="font-family:Arial, Helvetica,
 sans-serif;"><span style="font-style:normal;"><span><span
 style="font-weight:400;"><span><span
 style="background-color:#ffffff;"><span><span><span><span>Pendant ce
 creneau, il faudra donc laisser les fleches au repos le temps que le
 terrain se refasse une
 beaute.</span></span></span></span></span></span></span></span></span></span></span></span></p>
URL;VALUE=URI:https://archersetampes.sportsregions.fr/evenements/2026/03/22/travaux-au-terrain-2425433
END:VEVENT
END:VCALENDAR
